BEGIN:VCALENDAR
VERSION:2.0
PRODID:-//VICTORIA CAMINO - ECPv6.15.9//NONSGML v1.0//EN
CALSCALE:GREGORIAN
METHOD:PUBLISH
X-ORIGINAL-URL:https://victoriacamino.ca
X-WR-CALDESC:Events for VICTORIA CAMINO
REFRESH-INTERVAL;VALUE=DURATION:PT1H
X-Robots-Tag:noindex
X-PUBLISHED-TTL:PT1H
BEGIN:VTIMEZONE
TZID:America/Vancouver
BEGIN:DAYLIGHT
TZOFFSETFROM:-0800
TZOFFSETTO:-0700
TZNAME:PDT
DTSTART:20230312T100000
END:DAYLIGHT
BEGIN:STANDARD
TZOFFSETFROM:-0700
TZOFFSETTO:-0800
TZNAME:PST
DTSTART:20231105T090000
END:STANDARD
BEGIN:DAYLIGHT
TZOFFSETFROM:-0800
TZOFFSETTO:-0700
TZNAME:PDT
DTSTART:20240310T100000
END:DAYLIGHT
BEGIN:STANDARD
TZOFFSETFROM:-0700
TZOFFSETTO:-0800
TZNAME:PST
DTSTART:20241103T090000
END:STANDARD
BEGIN:DAYLIGHT
TZOFFSETFROM:-0800
TZOFFSETTO:-0700
TZNAME:PDT
DTSTART:20250309T100000
END:DAYLIGHT
BEGIN:STANDARD
TZOFFSETFROM:-0700
TZOFFSETTO:-0800
TZNAME:PST
DTSTART:20251102T090000
END:STANDARD
END:VTIMEZONE
BEGIN:VEVENT
DTSTART;TZID=America/Vancouver:20240905T100000
DTEND;TZID=America/Vancouver:20240905T110000
DTSTAMP:20260419T082722
CREATED:20240905T014240Z
LAST-MODIFIED:20240905T014259Z
UID:1450-1725530400-1725534000@victoriacamino.ca
SUMMARY:Camino Coffee House
DESCRIPTION:When: Thursday\, Sept. 5\, 2024\nStart Time: 10:00am\nLocation: Quality Foods Café at 27 Helmcken Road\nCamino Coffee House will now be at the Quality Foods Café\, located at the Eagle Creek Village Shopping mall\, beside the Victoria General Hospital\, 27 Helmcken Road\, unit 110. The café is located inside Quality Food\, upstairs.
URL:https://victoriacamino.ca/event/1450/
CATEGORIES:Camino Coffee House
ATTACH;FMTTYPE=image/jpeg:https://victoriacamino.ca/wp-content/uploads/2024/05/calendar-coffee-house-1.jpg
END:VEVENT
BEGIN:VEVENT
DTSTART;TZID=America/Vancouver:20240907T090000
DTEND;TZID=America/Vancouver:20240907T140000
DTSTAMP:20260419T082722
CREATED:20240826T175138Z
LAST-MODIFIED:20240905T015220Z
UID:1442-1725699600-1725717600@victoriacamino.ca
SUMMARY:Gordon Head UVic Walk
DESCRIPTION:September 7th\, 9am (Meet at 8:45am)\nMeeting Point: Henderson Recreation Centre\, 2291 Cedar Hill Cross Road\nMeeting Point Map: https://maps.app.goo.gl/nekgKMkaBahZ6rVG7\nRoute Map: https://onthegomap.com/s/fo5hoh8e
URL:https://victoriacamino.ca/event/gordon-head-uvic-walk/
CATEGORIES:Camino Walk
ATTACH;FMTTYPE=image/jpeg:https://victoriacamino.ca/wp-content/uploads/2024/08/icon-UVIC.jpg
END:VEVENT
BEGIN:VEVENT
DTSTART;TZID=America/Vancouver:20240914T080000
DTEND;TZID=America/Vancouver:20240914T170000
DTSTAMP:20260419T082722
CREATED:20240819T020621Z
LAST-MODIFIED:20240819T020621Z
UID:1435-1726300800-1726333200@victoriacamino.ca
SUMMARY:Sidney Salt Spring Island Walk
DESCRIPTION:Meeting Point: Mary Winspear Centre\, 2243 Beacon Ave\, Sidney\, BC V8L 1W9\nMeeting Point Map: https://maps.app.goo.gl/r5N5GNZhxZQdQnNT6  \nRoute Maps: \nSidney to Swartz Bay: https://onthegomap.com/s/5e8ki639\nFulford Harbour to Reginald Hill: https://onthegomap.com/s/jafmmj5s
URL:https://victoriacamino.ca/event/sidney-salt-spring-island-walk/
CATEGORIES:Camino Walk
ATTACH;FMTTYPE=image/jpeg:https://victoriacamino.ca/wp-content/uploads/2024/08/SaltSpring.jpg
END:VEVENT
BEGIN:VEVENT
DTSTART;TZID=America/Vancouver:20240921T090000
DTEND;TZID=America/Vancouver:20240921T140000
DTSTAMP:20260419T082722
CREATED:20240826T175612Z
LAST-MODIFIED:20240905T015510Z
UID:1446-1726909200-1726927200@victoriacamino.ca
SUMMARY:Central Saanich to Sidney Walk
DESCRIPTION:Meeting Point: Central Saanich United Church\, 7180 East Saanich Road\nMeeting Point Map: https://maps.app.goo.gl/tyxSpKK97fzg63E2A\nRoute Map: https://onthegomap.com/s/q2tmqa69 (stop in SIdney if going one way)
URL:https://victoriacamino.ca/event/central-saanich-to-sidney-walk/
CATEGORIES:Camino Walk
ATTACH;FMTTYPE=image/jpeg:https://victoriacamino.ca/wp-content/uploads/2024/08/icon-CSUC.jpg
END:VEVENT
BEGIN:VEVENT
DTSTART;TZID=America/Vancouver:20240928T090000
DTEND;TZID=America/Vancouver:20240928T140000
DTSTAMP:20260419T082722
CREATED:20240826T162047Z
LAST-MODIFIED:20240905T015305Z
UID:1438-1727514000-1727532000@victoriacamino.ca
SUMMARY:Thetis Lake Walk
DESCRIPTION:Meeting Point: Helmcken Road Park and Ride https://maps.app.goo.gl/AbYrZPkUK1f67TX97\nRoute Map: https://onthegomap.com/s/8l9112hj
URL:https://victoriacamino.ca/event/thetis-lake-walk-2/
CATEGORIES:Camino Walk
ATTACH;FMTTYPE=image/jpeg:https://victoriacamino.ca/wp-content/uploads/2024/08/icon-thetis-lake.jpg
END:VEVENT
END:VCALENDAR