BEGIN:VCALENDAR
VERSION:2.0
PRODID:-//VICTORIA CAMINO - ECPv6.15.9//NONSGML v1.0//EN
CALSCALE:GREGORIAN
METHOD:PUBLISH
X-WR-CALNAME:VICTORIA CAMINO
X-ORIGINAL-URL:https://victoriacamino.ca
X-WR-CALDESC:Events for VICTORIA CAMINO
REFRESH-INTERVAL;VALUE=DURATION:PT1H
X-Robots-Tag:noindex
X-PUBLISHED-TTL:PT1H
BEGIN:VTIMEZONE
TZID:America/Vancouver
BEGIN:DAYLIGHT
TZOFFSETFROM:-0800
TZOFFSETTO:-0700
TZNAME:PDT
DTSTART:20230312T100000
END:DAYLIGHT
BEGIN:STANDARD
TZOFFSETFROM:-0700
TZOFFSETTO:-0800
TZNAME:PST
DTSTART:20231105T090000
END:STANDARD
BEGIN:DAYLIGHT
TZOFFSETFROM:-0800
TZOFFSETTO:-0700
TZNAME:PDT
DTSTART:20240310T100000
END:DAYLIGHT
BEGIN:STANDARD
TZOFFSETFROM:-0700
TZOFFSETTO:-0800
TZNAME:PST
DTSTART:20241103T090000
END:STANDARD
BEGIN:DAYLIGHT
TZOFFSETFROM:-0800
TZOFFSETTO:-0700
TZNAME:PDT
DTSTART:20250309T100000
END:DAYLIGHT
BEGIN:STANDARD
TZOFFSETFROM:-0700
TZOFFSETTO:-0800
TZNAME:PST
DTSTART:20251102T090000
END:STANDARD
END:VTIMEZONE
BEGIN:VEVENT
DTSTART;TZID=America/Vancouver:20240404T100000
DTEND;TZID=America/Vancouver:20240404T120000
DTSTAMP:20260419T150406
CREATED:20240324T015643Z
LAST-MODIFIED:20240324T015643Z
UID:1259-1712224800-1712232000@victoriacamino.ca
SUMMARY:April Camino Coffee House
DESCRIPTION:When: Thursday\, April 4\, 2024\nStart Time: 10:00am\nLocation: Quality Foods Café at 27 Helmcken Road\nCamino Coffee House will now be at the Quality Foods Café\, located at the Eagle Creek Village Shopping mall\, beside the Victoria General Hospital\, 27 Helmcken Road\, unit 110. The café is located inside Quality Food\, upstairs.
URL:https://victoriacamino.ca/event/april-camino-coffee-house-2/
CATEGORIES:Camino Coffee House
ATTACH;FMTTYPE=image/jpeg:https://victoriacamino.ca/wp-content/uploads/2023/04/Screenshot-2023-04-08-at-7.15.15-PM.jpg
END:VEVENT
BEGIN:VEVENT
DTSTART;TZID=America/Vancouver:20240406T090000
DTEND;TZID=America/Vancouver:20240406T143000
DTSTAMP:20260419T150406
CREATED:20240323T155522Z
LAST-MODIFIED:20240324T011143Z
UID:1233-1712394000-1712413800@victoriacamino.ca
SUMMARY:Broadmead to Mattick’s Farm Walk
DESCRIPTION:Saturday\, April 6th\, 9am (Meet at 8:45am)\nMeeting Point: Romeo’s Broadmead Shopping Centre\nMap: https://maps.app.goo.gl/myzXnQ6dFHJJxBmi7\nRoute Map: https://onthegomap.com/s/lha14tug \nThis is a gentle walk-through leafy neighbourhood of Broadmead and onward to Mattick’s Farm via Lochside Trail. Mid point break will be at Mattick’s Farm\, plenty of green space there to sit and relax. Café and grocery store close by\, as well as washroom facilities. 5 Km to walk back to Broadmead from Mattick’s Farm.
URL:https://victoriacamino.ca/event/broadmead-to-matticks-farm-walk/
CATEGORIES:Camino Walk
ATTACH;FMTTYPE=image/jpeg:https://victoriacamino.ca/wp-content/uploads/2024/03/Broadmead.jpg
END:VEVENT
BEGIN:VEVENT
DTSTART;TZID=America/Vancouver:20240413T090000
DTEND;TZID=America/Vancouver:20240413T143000
DTSTAMP:20260419T150406
CREATED:20240323T161750Z
LAST-MODIFIED:20240324T013140Z
UID:1242-1712998800-1713018600@victoriacamino.ca
SUMMARY:Royal Bay Colwood Walk
DESCRIPTION:Saturday\, April 13\, 9 am (Meet at 8:45 am)\nMeeting Point: Beachlands (Colwood & Metchosin Area)\nMeeting Point Map: https://maps.app.goo.gl/Rw7jQUjDRL8FKjxp8\nDistance: 11.67 km\nDifficulty: Easy\nRoute Map: https://onthegomap.com/s/j1oh3ci0 \nThe walk begins at the parking lot at the Beachlands\, where there are restrooms. We leave the beach to walk up and around the Royal Bay neighbourhood and will pass a small tribute to Emily Carr and then climb to a viewpoint at Outlook Park.
URL:https://victoriacamino.ca/event/royal-bay-colwood-walk/
CATEGORIES:Camino Walk
ATTACH;FMTTYPE=image/jpeg:https://victoriacamino.ca/wp-content/uploads/2024/03/Beachland1.jpg
END:VEVENT
BEGIN:VEVENT
DTSTART;TZID=America/Vancouver:20240418T180000
DTEND;TZID=America/Vancouver:20240418T200000
DTSTAMP:20260419T150406
CREATED:20240126T032203Z
LAST-MODIFIED:20240126T042020Z
UID:1135-1713463200-1713470400@victoriacamino.ca
SUMMARY:Walking in Europe : Spain & Japan
DESCRIPTION:When: April 18\, 6:00pm – 8:00pm\nWhere: Saanich Commonwealth Place\, Arbutus Room \nThis multimedia session introduces popular walking routes: the Camino de Santiago in Spain\, and the Kumano Kodo and Shikoku Pilgrimage in Japan. Learn about routes\, accommodations\, food\, how to pack and prepare\, guidebooks and what to expect along the way. \nPlease register with the Saanich Commonwealth Place in person\, by phone (250)-475-7600\, or online. \nCost is $10.00 per registration. \nSaanich Parks & Recreation \nSaanich Parks & Recreation Course Number: 105884
URL:https://victoriacamino.ca/event/walking-in-europe-spain-japan/
CATEGORIES:Walking in Europe
ATTACH;FMTTYPE=image/jpeg:https://victoriacamino.ca/wp-content/uploads/2024/01/camino-5.jpg
END:VEVENT
BEGIN:VEVENT
DTSTART;TZID=America/Vancouver:20240420T090000
DTEND;TZID=America/Vancouver:20240420T143000
DTSTAMP:20260419T150406
CREATED:20240324T004905Z
LAST-MODIFIED:20240324T010822Z
UID:1250-1713603600-1713623400@victoriacamino.ca
SUMMARY:Pickle’s Bluff and Mt Newton
DESCRIPTION:Saturday\, April 20th\, 9 am (Meet at 8:45am)\nMeeting Point: St. Mary’s Anglican Church – 1973 Cultra Avenue\, Saanichton\nMeeting Point Map: https://maps.app.goo.gl/3Pg1sefyrNPWUDSX6\nRoute Map: https://onthegomap.com/s/t1kvhl71 \nAre you walking the Camino Frances? El Norte? Come to this moderately challenging route which will include a steady climb to Pickle’s Bluff and Mount Newton with gorgeous views from the summit. It will also include a beautiful walk through the rainforest before starting the ascent. Join us for an after walk lunch!
URL:https://victoriacamino.ca/event/pickles-bluff-and-mt-newton/
CATEGORIES:Camino Walk
ATTACH;FMTTYPE=image/jpeg:https://victoriacamino.ca/wp-content/uploads/2024/03/MtNewton3.jpg
END:VEVENT
END:VCALENDAR