BEGIN:VCALENDAR
VERSION:2.0
PRODID:-//VICTORIA CAMINO - ECPv6.15.9//NONSGML v1.0//EN
CALSCALE:GREGORIAN
METHOD:PUBLISH
X-ORIGINAL-URL:https://victoriacamino.ca
X-WR-CALDESC:Events for VICTORIA CAMINO
REFRESH-INTERVAL;VALUE=DURATION:PT1H
X-Robots-Tag:noindex
X-PUBLISHED-TTL:PT1H
BEGIN:VTIMEZONE
TZID:America/Vancouver
BEGIN:DAYLIGHT
TZOFFSETFROM:-0800
TZOFFSETTO:-0700
TZNAME:PDT
DTSTART:20230312T100000
END:DAYLIGHT
BEGIN:STANDARD
TZOFFSETFROM:-0700
TZOFFSETTO:-0800
TZNAME:PST
DTSTART:20231105T090000
END:STANDARD
BEGIN:DAYLIGHT
TZOFFSETFROM:-0800
TZOFFSETTO:-0700
TZNAME:PDT
DTSTART:20240310T100000
END:DAYLIGHT
BEGIN:STANDARD
TZOFFSETFROM:-0700
TZOFFSETTO:-0800
TZNAME:PST
DTSTART:20241103T090000
END:STANDARD
BEGIN:DAYLIGHT
TZOFFSETFROM:-0800
TZOFFSETTO:-0700
TZNAME:PDT
DTSTART:20250309T100000
END:DAYLIGHT
BEGIN:STANDARD
TZOFFSETFROM:-0700
TZOFFSETTO:-0800
TZNAME:PST
DTSTART:20251102T090000
END:STANDARD
END:VTIMEZONE
BEGIN:VEVENT
DTSTART;TZID=America/Vancouver:20240104T100000
DTEND;TZID=America/Vancouver:20240104T120000
DTSTAMP:20260419T095740
CREATED:20231224T211634Z
LAST-MODIFIED:20231224T212250Z
UID:1097-1704362400-1704369600@victoriacamino.ca
SUMMARY:Jan. Camino Coffee House
DESCRIPTION:When: Thursday\, Jan. 4\nStart Time: 10 AM\nNEW LOCATION\nQuality Foods’ Café at 27 Helmcken Road\nCamino Coffee House will now be at the Quality Foods café\, located at the Eagle Creek Village Shopping mall\, beside the Victoria General Hospital\, 27 Helmcken Road\, unit 110. The café is located inside Quality Food\, upstairs.
URL:https://victoriacamino.ca/event/dec-camino-coffee-house/
CATEGORIES:Camino Coffee House
ATTACH;FMTTYPE=image/jpeg:https://victoriacamino.ca/wp-content/uploads/2023/04/Screenshot-2023-04-08-at-7.15.15-PM.jpg
END:VEVENT
BEGIN:VEVENT
DTSTART;TZID=America/Vancouver:20240113T090000
DTEND;TZID=America/Vancouver:20240113T143000
DTSTAMP:20260419T095740
CREATED:20231224T212601Z
LAST-MODIFIED:20231224T212601Z
UID:1102-1705136400-1705156200@victoriacamino.ca
SUMMARY:North Saanich Walk
DESCRIPTION:North Saanich Walk\nWhen: Saturday\, Jan. 13\nMetting Time: 9 AM departure\nLength: 10 Km\nLocation: Canadian Tire North Saanich parking lot \nMeet at Canadian Tire at 8:45 for 9 am departure.\nCoffee at the Fickle Fig at the 7 Km point\nFairly flat\, Roads\, Pat Bay shoreline\, woodland paths etc.\nAbout 10 Km.
URL:https://victoriacamino.ca/event/north-saanich-walk/
CATEGORIES:Camino Walk
ATTACH;FMTTYPE=image/jpeg:https://victoriacamino.ca/wp-content/uploads/2023/06/image2.jpeg
END:VEVENT
BEGIN:VEVENT
DTSTART;TZID=America/Vancouver:20240127T090000
DTEND;TZID=America/Vancouver:20240127T143000
DTSTAMP:20260419T095740
CREATED:20231224T212819Z
LAST-MODIFIED:20240202T034109Z
UID:1104-1706346000-1706365800@victoriacamino.ca
SUMMARY:Central Saanich Countryside Walk
DESCRIPTION:North Saanich Walk\nWhen: Saturday\, Jan. 27\nMeeting Time: 9 AM departure\nLength: 10 Km\nLocation: Centennial Park washroom at Central Saanich  \nA picturesque walk in the rural part of Central Saanich. This walk starts from Centennial Park\, on flat terrain but there is an elevation gain from 40 m to 110 when we are hiking up to Butterfield Park. We will be walking through forest area\, crossing a few streams\, mostly on back country road. Mid point is the St. Stephen’s Anglican Church\, the oldest church in BC.
URL:https://victoriacamino.ca/event/central-saanich-countryside-walk/
CATEGORIES:Camino Walk
ATTACH;FMTTYPE=image/jpeg:https://victoriacamino.ca/wp-content/uploads/2023/05/central-saanich.jpg
END:VEVENT
END:VCALENDAR