BEGIN:VCALENDAR
VERSION:2.0
PRODID:-//VICTORIA CAMINO - ECPv6.15.9//NONSGML v1.0//EN
CALSCALE:GREGORIAN
METHOD:PUBLISH
X-WR-CALNAME:VICTORIA CAMINO
X-ORIGINAL-URL:https://victoriacamino.ca
X-WR-CALDESC:Events for VICTORIA CAMINO
REFRESH-INTERVAL;VALUE=DURATION:PT1H
X-Robots-Tag:noindex
X-PUBLISHED-TTL:PT1H
BEGIN:VTIMEZONE
TZID:America/Vancouver
BEGIN:DAYLIGHT
TZOFFSETFROM:-0800
TZOFFSETTO:-0700
TZNAME:PDT
DTSTART:20220313T100000
END:DAYLIGHT
BEGIN:STANDARD
TZOFFSETFROM:-0700
TZOFFSETTO:-0800
TZNAME:PST
DTSTART:20221106T090000
END:STANDARD
BEGIN:DAYLIGHT
TZOFFSETFROM:-0800
TZOFFSETTO:-0700
TZNAME:PDT
DTSTART:20230312T100000
END:DAYLIGHT
BEGIN:STANDARD
TZOFFSETFROM:-0700
TZOFFSETTO:-0800
TZNAME:PST
DTSTART:20231105T090000
END:STANDARD
BEGIN:DAYLIGHT
TZOFFSETFROM:-0800
TZOFFSETTO:-0700
TZNAME:PDT
DTSTART:20240310T100000
END:DAYLIGHT
BEGIN:STANDARD
TZOFFSETFROM:-0700
TZOFFSETTO:-0800
TZNAME:PST
DTSTART:20241103T090000
END:STANDARD
END:VTIMEZONE
BEGIN:VEVENT
DTSTART;TZID=America/Vancouver:20230419T014500
DTEND;TZID=America/Vancouver:20230419T100000
DTSTAMP:20260420T000704
CREATED:20230409T085409Z
LAST-MODIFIED:20230423T182333Z
UID:860-1681868700-1681898400@victoriacamino.ca
SUMMARY:Sidney to Saltspring - 13.4km
DESCRIPTION:Meeting Point: Meet at Mary Winspear Centre\, outside the front entrance area\nA special mid week walk from Sidney to Saltspring Island’s Fulford Bay and back. From Mary WInspear Center\, we will reach the ferry terminal via a few back country roads. We will aim for the 11 AM sailing to Saltspring. $4 for regular walk on\, BC senior over 65 is FREE. We will have lunch at Rock Salt cafe by Fulford terminal. You can alternatively pick up food at a small grocery store that is close. We will use a similar route to come back to Mary Winspear Center from the ferry terminal. It will be a fun day to walk/sail to Saltspring Island and back.\n\nDistance: 13.4km\nStart Time: 8:45am for 9am departure
URL:https://victoriacamino.ca/event/sidney-to-saltspring/
CATEGORIES:Camino Walk
ATTACH;FMTTYPE=image/jpeg:https://victoriacamino.ca/wp-content/uploads/2023/04/Screenshot-2023-04-08-at-6.56.25-PM.jpg
END:VEVENT
BEGIN:VEVENT
DTSTART;TZID=America/Vancouver:20230415T084500
DTEND;TZID=America/Vancouver:20230415T170000
DTSTAMP:20260420T000704
CREATED:20230409T084345Z
LAST-MODIFIED:20230423T182414Z
UID:855-1681548300-1681578000@victoriacamino.ca
SUMMARY:A Tour of Sidney - 13km
DESCRIPTION:Meeting Point: Meet at Mary Winspear Centre parking lot.\nGet to know this charming seaside town\, by walking it. Meet at the blue lined parking spots at Mary Winspear Centre. The route is about 13 KM.  All flat paths\, sidewalks\, city streets. You will walk past spring flowers\, marinas\, the waterfront\, and hopefully still some cherry blossoms! If the weather is clear\, you will see the breath taking Mt. Baker from the dock. Sidney is full of cafes and restaurants\, so plan to stay for lunch. Check Sidney BIA for an up to date list of eateries. \nDistance: 13km\nStart Time: 8:45am for 9am Departure\nCLICK HERE for the map link
URL:https://victoriacamino.ca/event/a-tour-of-sidney/
CATEGORIES:Camino Walk
ATTACH;FMTTYPE=image/jpeg:https://victoriacamino.ca/wp-content/uploads/2023/04/Screenshot-2023-04-08-at-6.56.25-PM.jpg
END:VEVENT
BEGIN:VEVENT
DTSTART;TZID=America/Vancouver:20230412T180000
DTEND;TZID=America/Vancouver:20230412T200000
DTSTAMP:20260420T000704
CREATED:20230409T090933Z
LAST-MODIFIED:20230423T175449Z
UID:868-1681322400-1681329600@victoriacamino.ca
SUMMARY:Walking in Europe - An Introduction
DESCRIPTION:Location: Saanich Commonwealth Pool\, Douglas Fir room\nStart Time: 6pm\nThis session will introduce you to walking in Europe on some of the various routes of the Camino de Santiago – an inexpensive way to experience European countryside\, culture and cuisine while keeping fit. Learn about route options\, accommodations\, food\, how to prepare\, train\, what to pack\, transportation\, guidebooks and what you will encounter along the way. We will also refer to other routes in Europe\, e.g. The Robert Lous Stevenson Trail and Mt. Blanc in France\, as well as Italy’s Tuscan country side and Cineque Terre. \nCLICK HERE for registration. Course number:88532\nWatch a Promotional Youtube Video Here.
URL:https://victoriacamino.ca/event/walking-in-europe-an-introduction/
CATEGORIES:Walking in Europe
ATTACH;FMTTYPE=image/jpeg:https://victoriacamino.ca/wp-content/uploads/2023/04/Screenshot-2023-04-08-at-7.07.31-PM.jpg
END:VEVENT
BEGIN:VEVENT
DTSTART;TZID=America/Vancouver:20230408T084500
DTEND;TZID=America/Vancouver:20230408T170000
DTSTAMP:20260420T000704
CREATED:20230409T084000Z
LAST-MODIFIED:20230423T182535Z
UID:852-1680943500-1680973200@victoriacamino.ca
SUMMARY:Lochside Trail / Swan Lake - 12km
DESCRIPTION:Meeting Point: Meet at 4050 Lochside Drive Parking Lot\nThis walk will take the group through a mix of urban trail and natural parkland of Swan Lake. Coffee break after 6 Km will be at Fantastico Cafe / Fol Epi bakery. \nCLICK HERE for the map link.\nDistance: 12km\nStart Time: 8:45am for 9:00am Departure
URL:https://victoriacamino.ca/event/lochside-trail-swan-lake/
CATEGORIES:Camino Walk
ATTACH;FMTTYPE=image/jpeg:https://victoriacamino.ca/wp-content/uploads/2023/04/Screenshot-2023-04-08-at-6.56.25-PM.jpg
END:VEVENT
BEGIN:VEVENT
DTSTART;TZID=America/Vancouver:20230406T100000
DTEND;TZID=America/Vancouver:20230406T120000
DTSTAMP:20260420T000704
CREATED:20230409T091714Z
LAST-MODIFIED:20230423T214716Z
UID:874-1680775200-1680782400@victoriacamino.ca
SUMMARY:April Camino Coffee House
DESCRIPTION:When: Thursday\, April 6\nStart Time: 10 AM\nSaanich Commonwealth Place Kattia’s Cafe
URL:https://victoriacamino.ca/event/april-camino-coffee-house/
CATEGORIES:Camino Coffee House
ATTACH;FMTTYPE=image/jpeg:https://victoriacamino.ca/wp-content/uploads/2023/04/Screenshot-2023-04-08-at-7.15.15-PM.jpg
END:VEVENT
END:VCALENDAR