BEGIN:VCALENDAR
VERSION:2.0
PRODID:-//VICTORIA CAMINO - ECPv6.15.9//NONSGML v1.0//EN
CALSCALE:GREGORIAN
METHOD:PUBLISH
X-ORIGINAL-URL:https://victoriacamino.ca
X-WR-CALDESC:Events for VICTORIA CAMINO
REFRESH-INTERVAL;VALUE=DURATION:PT1H
X-Robots-Tag:noindex
X-PUBLISHED-TTL:PT1H
BEGIN:VTIMEZONE
TZID:America/Vancouver
BEGIN:DAYLIGHT
TZOFFSETFROM:-0800
TZOFFSETTO:-0700
TZNAME:PDT
DTSTART:20240310T100000
END:DAYLIGHT
BEGIN:STANDARD
TZOFFSETFROM:-0700
TZOFFSETTO:-0800
TZNAME:PST
DTSTART:20241103T090000
END:STANDARD
BEGIN:DAYLIGHT
TZOFFSETFROM:-0800
TZOFFSETTO:-0700
TZNAME:PDT
DTSTART:20250309T100000
END:DAYLIGHT
BEGIN:STANDARD
TZOFFSETFROM:-0700
TZOFFSETTO:-0800
TZNAME:PST
DTSTART:20251102T090000
END:STANDARD
BEGIN:DAYLIGHT
TZOFFSETFROM:-0800
TZOFFSETTO:-0700
TZNAME:PDT
DTSTART:20260308T100000
END:DAYLIGHT
BEGIN:STANDARD
TZOFFSETFROM:-0700
TZOFFSETTO:-0800
TZNAME:PST
DTSTART:20261101T090000
END:STANDARD
END:VTIMEZONE
BEGIN:VEVENT
DTSTART;TZID=America/Vancouver:20250313T180000
DTEND;TZID=America/Vancouver:20250313T200000
DTSTAMP:20260419T165810
CREATED:20241230T014526Z
LAST-MODIFIED:20241230T014548Z
UID:1557-1741888800-1741896000@victoriacamino.ca
SUMMARY:Walking in Europe - Spain and Portugal
DESCRIPTION:This presentation covers two popular routes in Portugal from Porto to Santiago. Experience the richness of the Portuguese culture and friendly hospitality. Spain Frances is the busiest Camino route in Spain with almost 400\,000 people completing the route each year. The 870 km route starts in St Jean Pied De Port in France and crosses Spain to Santiago. This presentation will cover sites to visit\, services and accommodations available along the route. \nClick Here to Register!\nCourse #130327
URL:https://victoriacamino.ca/event/walking-in-europe-spain-and-portugal/
CATEGORIES:Walking in Europe
ATTACH;FMTTYPE=image/jpeg:https://victoriacamino.ca/wp-content/uploads/2023/04/Screenshot-2023-04-08-at-7.07.31-PM.jpg
END:VEVENT
BEGIN:VEVENT
DTSTART;TZID=America/Vancouver:20250315T090000
DTEND;TZID=America/Vancouver:20250315T090000
DTSTAMP:20260419T165810
CREATED:20250220T003002Z
LAST-MODIFIED:20250221T040230Z
UID:1616-1742029200-1742029200@victoriacamino.ca
SUMMARY:South Island Mini-Camino Day 1 
DESCRIPTION:Meeting Point: Langford Lanes – 1097 Langford Pkwy\nTrail Head: Sooke Lake Road and Shawnigan Forestry Service Road https://maps.app.goo.gl/34NccWbN8NXXWsyRA\nRoute Map: https://onthegomap.com/s/udgjjavg\nPrepare for your next Camino by joining us for a Mini Camino around the South Island area. See the Victoria Chapter Newsletter for more information.  And don’t forget to fill out this form to let us know you’re interested and to get more details. \n 
URL:https://victoriacamino.ca/event/south-island-mini-camino-day-1/
CATEGORIES:Camino Walk
ATTACH;FMTTYPE=image/jpeg:https://victoriacamino.ca/wp-content/uploads/2024/03/Broadmead.jpg
END:VEVENT
BEGIN:VEVENT
DTSTART;TZID=America/Vancouver:20250316T090000
DTEND;TZID=America/Vancouver:20250316T170000
DTSTAMP:20260419T165810
CREATED:20250219T204444Z
LAST-MODIFIED:20250317T003528Z
UID:1612-1742115600-1742144400@victoriacamino.ca
SUMMARY:South Island Mini-Camino Day 2
DESCRIPTION:Meeting Point: Langford Lanes\, Langford\nMeeting Point Map: https://maps.app.goo.gl/rHeGUwixt42EEqaa9 \nRoute Map:  https://onthegomap.com/s/55a00lmi  \nPrepare for your next Camino by joining us for a Mini Camino around the South Island area. See the Victoria Chapter Newsletter for more information.  And don’t forget to fill out this form to let us know you’re interested!
URL:https://victoriacamino.ca/event/south-island-mini-camino-day-2/
CATEGORIES:Camino Walk
ATTACH;FMTTYPE=image/jpeg:https://victoriacamino.ca/wp-content/uploads/2024/03/thetis-lake-1.jpg
END:VEVENT
BEGIN:VEVENT
DTSTART;TZID=America/Vancouver:20250317T090000
DTEND;TZID=America/Vancouver:20250317T170000
DTSTAMP:20260419T165810
CREATED:20250220T003149Z
LAST-MODIFIED:20250317T003627Z
UID:1619-1742202000-1742230800@victoriacamino.ca
SUMMARY:South Island Mini-Camino Day 3
DESCRIPTION:Meeting Point: Bean Around the World – 533 Fisgard Street\nMeeting Point Map: https://maps.app.goo.gl/uJmCHiagjDYEgGbQ8 \nRoute Map: https://onthegomap.com/s/afba3b31 \nPrepare for your next Camino by joining us for a Mini Camino around the South Island area. See the Victoria Chapter Newsletter for more information.  And don’t forget to fill out this form to let us know you’re interested!
URL:https://victoriacamino.ca/event/south-island-mini-camino-day-3/
CATEGORIES:Camino Walk
ATTACH;FMTTYPE=image/jpeg:https://victoriacamino.ca/wp-content/uploads/2024/06/WalkinEurope.jpg
END:VEVENT
BEGIN:VEVENT
DTSTART;TZID=America/Vancouver:20250318T090000
DTEND;TZID=America/Vancouver:20250318T170000
DTSTAMP:20260419T165810
CREATED:20250220T003235Z
LAST-MODIFIED:20250317T003728Z
UID:1621-1742288400-1742317200@victoriacamino.ca
SUMMARY:South Island Mini-Camino Day 4
DESCRIPTION:Meeting Point: Oak Bay Marina\nMeeting Point Map: https://maps.app.goo.gl/z7S7xCMDLkaqUvr76 \nRoute Map: https://onthegomap.com/s/b98vdppt  \nPrepare for your next Camino by joining us for a Mini Camino around the South Island area. See the Victoria Chapter Newsletter for more information.  And don’t forget to fill out this form to let us know you’re interested!
URL:https://victoriacamino.ca/event/south-island-mini-camino-day-4/
CATEGORIES:Camino Walk
ATTACH;FMTTYPE=image/jpeg:https://victoriacamino.ca/wp-content/uploads/2024/10/fall-walking.jpg
END:VEVENT
BEGIN:VEVENT
DTSTART;TZID=America/Vancouver:20250319T090000
DTEND;TZID=America/Vancouver:20250319T170000
DTSTAMP:20260419T165810
CREATED:20250220T003320Z
LAST-MODIFIED:20250317T003848Z
UID:1624-1742374800-1742403600@victoriacamino.ca
SUMMARY:South Island Mini-Camino Day 5
DESCRIPTION:Meeting Point: Tim Hortons – Saanich Plaza\nMeeting Point Map: https://maps.app.goo.gl/XzSfyDji9cVpmvCh9 \nRoute Map: https://onthegomap.com/s/b0e38m3a \nPrepare for your next Camino by joining us for a Mini Camino around the South Island area. See the Victoria Chapter Newsletter for more information. And don’t forget to fill out this form to let us know you’re interested!
URL:https://victoriacamino.ca/event/south-island-mini-camino-day-5/
CATEGORIES:Camino Walk
ATTACH;FMTTYPE=image/jpeg:https://victoriacamino.ca/wp-content/uploads/2024/06/JohnDean.jpg
END:VEVENT
BEGIN:VEVENT
DTSTART;TZID=America/Vancouver:20250320T183000
DTEND;TZID=America/Vancouver:20250320T200000
DTSTAMP:20260419T165810
CREATED:20250224T233314Z
LAST-MODIFIED:20250224T235630Z
UID:1642-1742495400-1742500800@victoriacamino.ca
SUMMARY:Camino Coffee House
DESCRIPTION:New Time\nMarch 20\, Thursday\, 2025 6:30 PM\nQuality Foods View Royal\nCamino Coffee House will be at the Quality Foods café\, located at the Eagle Creek Village Shopping mall\, beside the Victoria General Hospital\, 27 Helmcken Road. The café is located inside Quality Food\, upstairs. If you have a credencial and you would like to have the Victoria stamp (scroll down to see the stamp) in it as your first stamp\, come and join us at coffee and there will be someone there to stamp your credencial.
URL:https://victoriacamino.ca/event/camino-coffee-house-6/
LOCATION:Quality Foods Café\, 27 Helmcken Road\, Victoria\, BC\, V8Z 5G6\, Canada
CATEGORIES:Camino Coffee House
ATTACH;FMTTYPE=image/jpeg:https://victoriacamino.ca/wp-content/uploads/2024/05/calendar-coffee-house-1.jpg
END:VEVENT
BEGIN:VEVENT
DTSTART;TZID=America/Vancouver:20250329T090000
DTEND;TZID=America/Vancouver:20250329T130000
DTSTAMP:20260419T165810
CREATED:20250225T154444Z
LAST-MODIFIED:20250226T031534Z
UID:1650-1743238800-1743253200@victoriacamino.ca
SUMMARY:Fox & Monocle Walk
DESCRIPTION:Meeting Point: Canadian Tire\, North Saanich\nMeeting Point Map: https://maps.app.goo.gl/U54wTciDMCmmLWxXA\nRoute Map: https://onthegomap.com/s/87ihk7fr  \nWe will meet at the Canadian Tire in Sidney for a walk through the eastern side of North Saanich. A walk along rural roads\, trails\, past farms\, ponds\, marinas\, and parks.  Coffee at the Fox & Monocle at Canoe Cove Marina about the 5.5 km point. \nWalk Statistics: \nTotal Distance: 12 km\nEstimated Finish Time: 3.5 hours (with coffee)\nElevation: 222m ascent: 222m descent\nDifficulty: Easy to Medium\nSurface: Pavement and dirt trails
URL:https://victoriacamino.ca/event/fox-monocle-walk-3/
CATEGORIES:Camino Walk
ATTACH;FMTTYPE=image/jpeg:https://victoriacamino.ca/wp-content/uploads/2023/06/image2.jpeg
END:VEVENT
BEGIN:VEVENT
DTSTART;TZID=America/Vancouver:20250406T130000
DTEND;TZID=America/Vancouver:20250406T153000
DTSTAMP:20260419T165810
CREATED:20250323T033513Z
LAST-MODIFIED:20250323T034815Z
UID:1685-1743944400-1743953400@victoriacamino.ca
SUMMARY:Esquimalt Gorge Walk
DESCRIPTION:Sunday\, April 6\, 2025 1:00pm (Meet at 12:45pm)\nMeeting Point: Esquimalt Gorge Park and Pavilion\nMeeting Point Map: https://maps.app.goo.gl/1RRap6qik5VunEbh6\nRoute Map: https://onthegomap.com/s/vg9votf9
URL:https://victoriacamino.ca/event/esquimalt-gorge-walk/
CATEGORIES:Camino Walk
ATTACH;FMTTYPE=image/png:https://victoriacamino.ca/wp-content/uploads/2025/03/gorge.png
END:VEVENT
BEGIN:VEVENT
DTSTART;TZID=America/Vancouver:20250410T180000
DTEND;TZID=America/Vancouver:20250410T200000
DTSTAMP:20260419T165810
CREATED:20241230T013641Z
LAST-MODIFIED:20250323T032943Z
UID:1555-1744308000-1744315200@victoriacamino.ca
SUMMARY:Walking in Europe - Spain & Ireland
DESCRIPTION:The Camino Aragones starts at Col de Somport\, crossing 165 kilometers through Aragon and Navarra to join the Camino Frances at Puente la Reina\, offering scenic landscapes and historical landmarks. The Camino de San Salvador\, a 125-kilometer route from León to Oviedo\, provides stunning mountain views and serene forests.\nIreland’s Dingle Way showcases lush landscapes and sandy beaches. This presentation will highlight key sites\, services\, and accommodations along these routes\, offering insights into the beautiful countryside and cultural richness. \nCourse Number: #130328 \nClick Here to Register!
URL:https://victoriacamino.ca/event/walking-in-europe-japan-and-ireland/
CATEGORIES:Walking in Europe
ATTACH;FMTTYPE=image/jpeg:https://victoriacamino.ca/wp-content/uploads/2023/04/Screenshot-2023-04-08-at-7.07.31-PM.jpg
END:VEVENT
BEGIN:VEVENT
DTSTART;TZID=America/Vancouver:20250419T090000
DTEND;TZID=America/Vancouver:20250419T140000
DTSTAMP:20260419T165810
CREATED:20250329T035714Z
LAST-MODIFIED:20250329T035714Z
UID:1691-1745053200-1745071200@victoriacamino.ca
SUMMARY:Beacon Hill Around James Bay
DESCRIPTION:Meeting Point: Beacon Hill Children’s Farm\nMeeting Point Map: https://maps.app.goo.gl/7N2VP5eSQnfp4FNU8\nRoute Map: https://onthegomap.com/s/vitqrgof  \nWe’ll start at Beacon Hill Children’s Farm walking to Dallas Rd then around James Bay to the Breakwater. Continuing along the harbour\, passing by Fisherman’s Wharf and Peter Pollen Park then walking by the Legislature to continue to Cook Street Village where we’ll stop for coffee at the Hidden Gem before finishing off walking back to Beacon Hill Park.. \nWalk Statistics:\nTotal Distance: 10 km\nEstimated Finish Time: 2.5 hours (with coffee)\nElevation Change: 124 m\nDifficulty: Easy\nSurface: Pavement\, boardwalk and dirt trails
URL:https://victoriacamino.ca/event/beacon-hill-around-james-bay/
CATEGORIES:Camino Walk
ATTACH;FMTTYPE=image/png:https://victoriacamino.ca/wp-content/uploads/2025/03/DowntownVictoria.png
END:VEVENT
BEGIN:VEVENT
DTSTART;TZID=America/Vancouver:20250424T183000
DTEND;TZID=America/Vancouver:20250424T200000
DTSTAMP:20260419T165810
CREATED:20250323T034146Z
LAST-MODIFIED:20250323T034146Z
UID:1687-1745519400-1745524800@victoriacamino.ca
SUMMARY:Camino Coffee House
DESCRIPTION:Thursday April 24\, 2025 6:30pm\nCamino Coffee House will be at the Quality Foods café\, located at the Eagle Creek Village Shopping mall\, beside the Victoria General Hospital\, 27 Helmcken Road. The café is located inside Quality Food\, upstairs. If you have a credencial and you would like to have the Victoria stamp (scroll down to see the stamp) in it as your first stamp\, come and join us for coffee and there will be someone there to stamp your credencial. Sorry no outside food.
URL:https://victoriacamino.ca/event/camino-coffee-house-7/
LOCATION:Quality Foods Café\, 27 Helmcken Road\, Victoria\, BC\, V8Z 5G6\, Canada
CATEGORIES:Camino Coffee House
ATTACH;FMTTYPE=image/jpeg:https://victoriacamino.ca/wp-content/uploads/2024/05/calendar-coffee-house-1.jpg
END:VEVENT
BEGIN:VEVENT
DTSTART;TZID=America/Vancouver:20250426T090000
DTEND;TZID=America/Vancouver:20250426T140000
DTSTAMP:20260419T165810
CREATED:20250224T022918Z
LAST-MODIFIED:20250304T040715Z
UID:1638-1745658000-1745676000@victoriacamino.ca
SUMMARY:Mount Douglas/PKOLS Walk
DESCRIPTION:Meeting Point: Mount Douglas Beach parking lot north\nMeeting Point Map: https://maps.app.goo.gl/6mR1s1SRmHgZ3zQd8\nRoute Map: https://onthegomap.com/s/7jddd5hc \nFor our walk around Mount Doug/PKOLS\, we will begin at the parking lot and proceed to circumnavigate the mountain’s base. Along the way\, you can admire the towering evergreen trees and lush fern undergrowth. Afterward\, we’ll pass through the residential neighborhood of Gordon Head and make our way to Township Coffee on Tyndall Ave. \nWalk Statistics: \nTotal Distance: 8 km\nEstimated Finish Time: 3.5 hours (with coffee)\nElevation Change: 160m\nDifficulty: Medium\nSurface: Pavement and dirt trails
URL:https://victoriacamino.ca/event/mt-douglas-pkols-walk/
LOCATION:Mt. Douglas Beach parking lot\, 4501 Cordova Bay Rd\, Victoria\, British Columbia\, V8N 2S8\, Canada
CATEGORIES:Camino Walk
ATTACH;FMTTYPE=image/jpeg:https://victoriacamino.ca/wp-content/uploads/2025/02/mt-doug-sml.jpg
END:VEVENT
BEGIN:VEVENT
DTSTART;TZID=America/Vancouver:20250503T090000
DTEND;TZID=America/Vancouver:20250503T140000
DTSTAMP:20260419T165810
CREATED:20250428T020824Z
LAST-MODIFIED:20250428T020825Z
UID:1710-1746262800-1746280800@victoriacamino.ca
SUMMARY:Elk and Beaver Lake Trail Walk
DESCRIPTION:Meeting Point: Beaver Lake Main Parking Lot\nMeeting Point Map: https://maps.app.goo.gl/v86DYjaAjZxY3i389\nRoute Map: https://onthegomap.com/s/omnnv889 \nSee Newsletter for walk details: Victoria Chapter Newsletter May 2025
URL:https://victoriacamino.ca/event/elk-and-beaver-lake-trail-walk/
CATEGORIES:Camino Walk
ATTACH;FMTTYPE=image/jpeg:https://victoriacamino.ca/wp-content/uploads/2023/06/elk-lake-walk-small.jpg
END:VEVENT
BEGIN:VEVENT
DTSTART;TZID=America/Vancouver:20250510T090000
DTEND;TZID=America/Vancouver:20250510T140000
DTSTAMP:20260419T165810
CREATED:20250428T021402Z
LAST-MODIFIED:20250428T021402Z
UID:1712-1746867600-1746885600@victoriacamino.ca
SUMMARY:Durrance Lake / McKenzie Bight Walk
DESCRIPTION:Meeting Point: Durrance Lake park lot\nMeeting Point Map: https://maps.app.goo.gl/dQp62sYxpaCYvfTS8\nRoute Map: https://onthegomap.com/s/us1l1pai \nSee May Newsletter for walk details: Victoria Chapter Newsletter May 2025
URL:https://victoriacamino.ca/event/durrance-lake-mckenzie-bight-walk-2/
CATEGORIES:Camino Walk
ATTACH;FMTTYPE=image/jpeg:https://victoriacamino.ca/wp-content/uploads/2025/04/Durrance.jpg
END:VEVENT
BEGIN:VEVENT
DTSTART;TZID=America/Vancouver:20250517T090000
DTEND;TZID=America/Vancouver:20250517T140000
DTSTAMP:20260419T165810
CREATED:20250428T022006Z
LAST-MODIFIED:20250428T022033Z
UID:1715-1747472400-1747490400@victoriacamino.ca
SUMMARY:Brentwood Bay Loop
DESCRIPTION:Meeting Point: Hardy Park\, Corner of Moody Street and Wallace Road\nMeeting Point Map: https://maps.app.goo.gl/bsRWda9YyntBG44LA\nRoute Map: https://onthegomap.com/s/bo0pvet1 \nSee Newsletter for walk details: Victoria Chapter Newsletter May 2025
URL:https://victoriacamino.ca/event/brentwood-bay-loop-4/
CATEGORIES:Camino Walk
ATTACH;FMTTYPE=image/jpeg:https://victoriacamino.ca/wp-content/uploads/2024/12/Brentwood-Bay-3-calender.jpg
END:VEVENT
BEGIN:VEVENT
DTSTART;TZID=America/Vancouver:20250519T063000
DTEND;TZID=America/Vancouver:20250519T200000
DTSTAMP:20260419T165810
CREATED:20250428T020203Z
LAST-MODIFIED:20250428T020203Z
UID:1707-1747636200-1747684800@victoriacamino.ca
SUMMARY:Special Evening with Sandy Brown
DESCRIPTION:Join us for a special event with speaker Sanford “Sandy” Brown sharing “All I Really Needed to Know I Learned on the Camino.” Sandy is one of the world’s most prolific and trusted pilgrimage guidebook authors. A long-distance walker and ordained minister from Seattle\, Washington\, Sandy planned his 2008 trek on the Camino de Santiago and since then has walked or biked over 18\,000 kilometers on pilgrim trails in Europe and the US. \nRegistration required\, but event is free!  Please Register Here. \nA donativo will be accepted and appreciated at the venue.
URL:https://victoriacamino.ca/event/special-evening-with-sandy-brown/
LOCATION:Broad View United\, 3703 St Aidans Street\, Victoria\, BC\, V8P 2V7\, Canada
CATEGORIES:Special Event
ATTACH;FMTTYPE=image/jpeg:https://victoriacamino.ca/wp-content/uploads/2025/04/Sandy-Brown2.jpg
END:VEVENT
BEGIN:VEVENT
DTSTART;TZID=America/Vancouver:20250524T090000
DTEND;TZID=America/Vancouver:20250524T140000
DTSTAMP:20260419T165810
CREATED:20250428T022603Z
LAST-MODIFIED:20250428T022818Z
UID:1718-1748077200-1748095200@victoriacamino.ca
SUMMARY:North Saanich Fickle Fig Walk
DESCRIPTION:Meeting Point: Canadian Tire North Saanich\nMeeting Point Map: https://maps.app.goo.gl/is56LrUn7N3Pccwz8\nRoute Map: https://onthegomap.com/s/pc31g963 \nSee Newsletter for walk details: Victoria Chapter Newsletter May 2025
URL:https://victoriacamino.ca/event/north-saanich-fickle-fig-walk/
CATEGORIES:Camino Walk
ATTACH;FMTTYPE=image/jpeg:https://victoriacamino.ca/wp-content/uploads/2024/07/North-Saanich-walk.jpeg
END:VEVENT
BEGIN:VEVENT
DTSTART;TZID=America/Vancouver:20250529T100000
DTEND;TZID=America/Vancouver:20250529T120000
DTSTAMP:20260419T165810
CREATED:20250428T023538Z
LAST-MODIFIED:20250428T023733Z
UID:1721-1748512800-1748520000@victoriacamino.ca
SUMMARY:Camino Coffee House
DESCRIPTION:Camino Coffee House will be at the Quality Foods café\, located at the Eagle Creek Village Shopping mall\, beside the Victoria General Hospital\, 27 Helmcken Road. The café is located inside Quality Food\, upstairs. If you have a credencial and you would like to have the Victoria stamp (scroll down to see the stamp) in it as your first stamp\, come and join us for coffee and there will be someone there to stamp your credencial. Sorry no outside food.
URL:https://victoriacamino.ca/event/camino-coffee-house-8/
CATEGORIES:Camino Coffee House
ATTACH;FMTTYPE=image/jpeg:https://victoriacamino.ca/wp-content/uploads/2024/05/calendar-coffee-house-1.jpg
END:VEVENT
BEGIN:VEVENT
DTSTART;TZID=America/Vancouver:20250605T180000
DTEND;TZID=America/Vancouver:20250605T200000
DTSTAMP:20260419T165810
CREATED:20241230T012920Z
LAST-MODIFIED:20250603T182240Z
UID:1551-1749146400-1749153600@victoriacamino.ca
SUMMARY:Walking in Europe - Japan and Italy
DESCRIPTION:Learn about the Kumano Kodo pilgrimage trails in Japan’s southern Kansai region\, a key part of its World Heritage designation. Over 1000 years old\, these trails spanning 100 km showcase Japan’s traditions\, history\, and landscapes. We’ll also invites you to experience “la dolce vita” in Italy’s Via Francigena Walk through Tuscany to Rome. \nClick Here to Register!\nCourse #130330
URL:https://victoriacamino.ca/event/walking-in-europe-italy-and-ireland/
CATEGORIES:Walking in Europe
ATTACH;FMTTYPE=image/jpeg:https://victoriacamino.ca/wp-content/uploads/2023/04/Screenshot-2023-04-08-at-7.07.31-PM.jpg
END:VEVENT
BEGIN:VEVENT
DTSTART;TZID=America/Vancouver:20250607T090000
DTEND;TZID=America/Vancouver:20250607T140000
DTSTAMP:20260419T165810
CREATED:20250528T043318Z
LAST-MODIFIED:20250529T021438Z
UID:1730-1749286800-1749304800@victoriacamino.ca
SUMMARY:Royal Roads University Walk
DESCRIPTION:Saturday\, June 7\, 2025 9am (Meet at 8:45am)\nMeeting Point: Colwood Park and Ride\nMeeting Point Map: https://maps.app.goo.gl/HeuT5cvZcnYkabgq6\nRoute Map: https://onthegomap.com/s/9rh51qmt \nFor details on the walk please see the June Newsletter https://mailchi.mp/6b8e0ba990a5/june-2025-newsletter-13392919
URL:https://victoriacamino.ca/event/royal-roads-university-walk/
CATEGORIES:Camino Walk
ATTACH;FMTTYPE=image/jpeg:https://victoriacamino.ca/wp-content/uploads/2023/10/royal-road-pic.jpg
END:VEVENT
BEGIN:VEVENT
DTSTART;TZID=America/Vancouver:20250614T090000
DTEND;TZID=America/Vancouver:20250614T140000
DTSTAMP:20260419T165810
CREATED:20250529T021035Z
LAST-MODIFIED:20250529T021133Z
UID:1734-1749891600-1749909600@victoriacamino.ca
SUMMARY:Cowichan River Circle Trail
DESCRIPTION:Saturday\, June 14\, 2025 10am (Meet at 9:45am)\nMeeting Point: Glenora Trails Head Park\nMeeting Point Map: https://maps.app.goo.gl/WruyD3tY216rmsaz7\nRoute Map: https://onthegomap.com/s/opluqc6l \nFor details on the walk please see the June Newsletter
URL:https://victoriacamino.ca/event/cowichan-river-circle-trail/
CATEGORIES:Camino Walk
ATTACH;FMTTYPE=image/jpeg:https://victoriacamino.ca/wp-content/uploads/2025/01/Cowichan-trail-sml.jpg
END:VEVENT
BEGIN:VEVENT
DTSTART;TZID=America/Vancouver:20250621T090000
DTEND;TZID=America/Vancouver:20250621T170000
DTSTAMP:20260419T165810
CREATED:20250529T021643Z
LAST-MODIFIED:20250529T022216Z
UID:1737-1750496400-1750525200@victoriacamino.ca
SUMMARY:Langford Lakes Walk
DESCRIPTION:Saturday\, June 21\, 2025 9am (Meet at 8:45am)\nMeeting Point: Westhill YMCA – East Parking Lot\nMeeting Point Map: https://maps.app.goo.gl/w6i1CRgAPm2Gpget9\nRoute Map: https://onthegomap.com/s/hs4olj3v \nFor details on the walk please see the June Newsletter https://mailchi.mp/6b8e0ba990a5/june-2025-newsletter-13392919
URL:https://victoriacamino.ca/event/langford-lakes-walk/
CATEGORIES:Camino Walk
END:VEVENT
BEGIN:VEVENT
DTSTART;TZID=America/Vancouver:20250626T100000
DTEND;TZID=America/Vancouver:20250626T100000
DTSTAMP:20260419T165810
CREATED:20250528T042820Z
LAST-MODIFIED:20250528T042929Z
UID:1720-1750932000-1750932000@victoriacamino.ca
SUMMARY:Camino Coffee House
DESCRIPTION:Camino Coffee House will be at the Quality Foods café\, located at the Eagle Creek Village Shopping mall\, beside the Victoria General Hospital\, 27 Helmcken Road. The café is located inside Quality Food\, upstairs. If you have a credencial and you would like to have the Victoria stamp (scroll down to see the stamp) in it as your first stamp\, come and join us for coffee and there will be someone there to stamp it!. Sorry no outside food.
URL:https://victoriacamino.ca/event/camino-coffee-house-9/
LOCATION:Quality Foods Café\, 27 Helmcken Road\, Victoria\, BC\, V8Z 5G6\, Canada
CATEGORIES:Camino Coffee House
ATTACH;FMTTYPE=image/jpeg:https://victoriacamino.ca/wp-content/uploads/2024/05/calendar-coffee-house-1.jpg
END:VEVENT
BEGIN:VEVENT
DTSTART;TZID=America/Vancouver:20250628T090000
DTEND;TZID=America/Vancouver:20250628T140000
DTSTAMP:20260419T165810
CREATED:20250529T022008Z
LAST-MODIFIED:20250529T022008Z
UID:1739-1751101200-1751119200@victoriacamino.ca
SUMMARY:Victoria to Sidney Walk
DESCRIPTION:Saturday\, June 28\, 2025 8am (Meet at 7:45am)\nMeeting Point: St Andrew’s Cathedral\nMeeting Point Map: https://maps.app.goo.gl/LpEcwH32rBMwZ5rEA\nRoute Map: https://onthegomap.com/s/7dmc6j9q \nFor details on the walk please see the June Newsletter https://mailchi.mp/6b8e0ba990a5/june-2025-newsletter-13392919
URL:https://victoriacamino.ca/event/victoria-to-sidney-walk/
CATEGORIES:Camino Walk
ATTACH;FMTTYPE=image/png:https://victoriacamino.ca/wp-content/uploads/2025/03/DowntownVictoria.png
END:VEVENT
BEGIN:VEVENT
DTSTART;TZID=America/Vancouver:20250726T090000
DTEND;TZID=America/Vancouver:20250726T150000
DTSTAMP:20260419T165810
CREATED:20250610T022353Z
LAST-MODIFIED:20250610T022353Z
UID:1811-1753520400-1753542000@victoriacamino.ca
SUMMARY:St James Day Walk
DESCRIPTION:Save the Date\nWalk and picnic lunch at Elk Lake!
URL:https://victoriacamino.ca/event/st-james-day-walk/
LOCATION:Elk Lake\, 5267 Patricia Bay Hwy\, Victoria\, BC\, Canada
CATEGORIES:Camino Walk,Special Event
END:VEVENT
BEGIN:VEVENT
DTSTART;TZID=America/Vancouver:20250802T090000
DTEND;TZID=America/Vancouver:20250802T140000
DTSTAMP:20260419T165810
CREATED:20250725T031844Z
LAST-MODIFIED:20250725T033106Z
UID:1867-1754125200-1754143200@victoriacamino.ca
SUMMARY:Francis King Park Walk
DESCRIPTION:Meeting Point: Francis King Regional Park main parking lot\nMeeting Point Map: https://maps.app.goo.gl/M9BEgYEGnAvcVaB3A\nRoute Map: https://onthegomap.com/s/l4329945 \nThis route in Francis King Regional Park takes us through three different trails: the Centennial\, Panhandle & High Ridge Trails. The walk starts on the Centennial trail to the right of the Nature House. The trail meanders through lush forested areas that are well-shaded as well as some open areas\, skirting  the Highlands golf course. There are some elevation changes with High Ridge having some steeper but very manageable sections.  Hiking poles are recommended. At the end of the walk we can drive to The Nest Cafe on Watkiss Way which is a 4 min drive from the park. \nWalk Statistics:\nTotal Distance:6 km\nEstimated Finish Time: 2 hours\nElevation Change: 112 m\nDifficulty: Moderate\nSurface: Hiking trails
URL:https://victoriacamino.ca/event/francis-king-park-walk/
CATEGORIES:Camino Walk
END:VEVENT
BEGIN:VEVENT
DTSTART;TZID=America/Vancouver:20250809T090000
DTEND;TZID=America/Vancouver:20250809T140000
DTSTAMP:20260419T165810
CREATED:20250725T032243Z
LAST-MODIFIED:20250725T033724Z
UID:1869-1754730000-1754748000@victoriacamino.ca
SUMMARY:John Dean Park Walk
DESCRIPTION:Meeting Point: Cresswell Road and Texada Terrace\nMeeting Point Map: https://maps.app.goo.gl/tQcV4xUZboXNMKtBA\nRoute Map: https://onthegomap.com/s/s5iltkpu \nThis is a moderately challenging but beautiful hike along forested trails in John Dean Provincial Park (LAU\,WELNEW). Our viewpoint will be Pickles Bluff almost 6km into the hike. We’ll return through a residential area. . Bring poles if you use them. We will head to The Roost on the corner of McTavish Road and East Saanich Road for a well-deserved coffee break or more. \nWalk Statistics:\nTotal Distance: 9 km\nEstimated Finish Time: 3 hours\nElevation Change: 385 m\nDifficulty: Moderate\nSurface: Hiking trails and pavement
URL:https://victoriacamino.ca/event/john-dean-park-walk-3/
CATEGORIES:Camino Walk
END:VEVENT
BEGIN:VEVENT
DTSTART;TZID=America/Vancouver:20250816T100000
DTEND;TZID=America/Vancouver:20250816T140000
DTSTAMP:20260419T165810
CREATED:20250725T032450Z
LAST-MODIFIED:20250725T033526Z
UID:1871-1755338400-1755352800@victoriacamino.ca
SUMMARY:Cowichan River Circle Trail
DESCRIPTION:Meeting Point: Glenora Trails Head Park\nMeeting Point Map: https://maps.app.goo.gl/A69A3MpvZJYSEcB56\nRoute Map: https://onthegomap.com/s/opluqc6l \nThis moderate 8.38 km loop hike follows a section along the scenic Cowichan River before returning on the Cowichan Valley Trail. There is an initial downhill section followed by a flat/gradual uphill hike back up to the old rail bed for an easy return back to our starting point. Being a country hike there are also no coffee shops along the way. However\, the trailhead park has a large sheltered picnic area and if we all bring a thermos and/or coolers\, along with a picnic lunch\, we can enjoy some post hike camaraderie. \nThe drive to Glenora Trails Head Park is about 1 hour from Victoria.  You’ll note the sign for the park on the left and a short drive to the parking lot.  We’ll meet at the buildings. \nWalk Statistics:\nTotal Distance: 8.13 km\nEstimated Finish Time: 2 hours\nElevation Change: 228 m\nDifficulty: Moderate\nSurface: Hiking trails and biking surfaces
URL:https://victoriacamino.ca/event/cowichan-river-circle-trail-2/
CATEGORIES:Camino Walk
END:VEVENT
BEGIN:VEVENT
DTSTART;TZID=America/Vancouver:20250819T180000
DTEND;TZID=America/Vancouver:20250819T200000
DTSTAMP:20260419T165810
CREATED:20250725T024806Z
LAST-MODIFIED:20250725T030306Z
UID:1860-1755626400-1755633600@victoriacamino.ca
SUMMARY:Nordic Pole Walking
DESCRIPTION:Always wanted to learn how to Nordic pole walk?  Now is your chance with this two hour session at the Central Saanich United Church parking lot. Bring your poles (some will be provided if you need them) and appropriate clothing for this outdoor class. \nCost is $10 for CCoP members\, $15 for non-members.  Not a member? Save $5.00 and become one!\nBecome a CCoP Victoria Chapter Member \nYou may find parking along the side streets in the neighbourhood. We’ll be using the parking lot for the class. \nClick Here to Register
URL:https://victoriacamino.ca/event/nordic-pole-walking/
LOCATION:Central Saanich United Church\, 7180 East Saanich Road\, Saanichton\, British Columbia\, Canada
CATEGORIES:Special Event
ATTACH;FMTTYPE=image/jpeg:https://victoriacamino.ca/wp-content/uploads/2024/06/nordic-walking3-1140x450-1-e1740440205953.jpg
END:VEVENT
END:VCALENDAR