BEGIN:VCALENDAR
VERSION:2.0
PRODID:-//VICTORIA CAMINO - ECPv6.15.9//NONSGML v1.0//EN
CALSCALE:GREGORIAN
METHOD:PUBLISH
X-WR-CALNAME:VICTORIA CAMINO
X-ORIGINAL-URL:https://victoriacamino.ca
X-WR-CALDESC:Events for VICTORIA CAMINO
REFRESH-INTERVAL;VALUE=DURATION:PT1H
X-Robots-Tag:noindex
X-PUBLISHED-TTL:PT1H
BEGIN:VTIMEZONE
TZID:America/Vancouver
BEGIN:DAYLIGHT
TZOFFSETFROM:-0800
TZOFFSETTO:-0700
TZNAME:PDT
DTSTART:20250309T100000
END:DAYLIGHT
BEGIN:STANDARD
TZOFFSETFROM:-0700
TZOFFSETTO:-0800
TZNAME:PST
DTSTART:20251102T090000
END:STANDARD
BEGIN:DAYLIGHT
TZOFFSETFROM:-0800
TZOFFSETTO:-0700
TZNAME:PDT
DTSTART:20260308T100000
END:DAYLIGHT
BEGIN:STANDARD
TZOFFSETFROM:-0700
TZOFFSETTO:-0800
TZNAME:PST
DTSTART:20261101T090000
END:STANDARD
BEGIN:DAYLIGHT
TZOFFSETFROM:-0800
TZOFFSETTO:-0700
TZNAME:PDT
DTSTART:20270314T100000
END:DAYLIGHT
BEGIN:STANDARD
TZOFFSETFROM:-0700
TZOFFSETTO:-0800
TZNAME:PST
DTSTART:20271107T090000
END:STANDARD
END:VTIMEZONE
BEGIN:VEVENT
DTSTART;TZID=America/Vancouver:20260404T084500
DTEND;TZID=America/Vancouver:20260404T130000
DTSTAMP:20260422T040336
CREATED:20260329T161733Z
LAST-MODIFIED:20260330T001231Z
UID:2195-1775292300-1775307600@victoriacamino.ca
SUMMARY:Mosi Acqua Cotta
DESCRIPTION:Meeting Point: Tillicum Mall by Montana’s\nMeeting Point Map: https://maps.app.goo.gl/gMZtw8MC6negz4fE8\nRoute Map: https://onthegomap.com/s/gnjs2eu9 \nPark your car at Tillicum Mall and join us for a walk along the Colquitz River Trail passing through Panama Flats and crossing Mann Road and following Colquitz Creek to Quick’s Bottom Park. We will continue on paths through the park to West Saanich Road. After a 300 m walk along West Saanich Road we will stop at Mosi Acqua Cotta for coffee. Our route back will take us down Markham Street to Mann Road and then back on the Colquitz River Trail to arrive back at Tillicum Mall. \nWalk Statistics:\nTotal Distance: 14.5 km\nEstimated Finish Time: 4.5 hours (with coffee)\nElevation Change: 210 m\nDifficulty: Easy\nSurface: Pavement and Trails
URL:https://victoriacamino.ca/event/mosi-acqua-cotta/
CATEGORIES:Camino Walk
ATTACH;FMTTYPE=image/jpeg:https://victoriacamino.ca/wp-content/uploads/2026/03/Mosi_Acqua_Cotta_2026.jpg
END:VEVENT
END:VCALENDAR