BEGIN:VCALENDAR
VERSION:2.0
PRODID:-//VICTORIA CAMINO - ECPv6.15.9//NONSGML v1.0//EN
CALSCALE:GREGORIAN
METHOD:PUBLISH
X-ORIGINAL-URL:https://victoriacamino.ca
X-WR-CALDESC:Events for VICTORIA CAMINO
REFRESH-INTERVAL;VALUE=DURATION:PT1H
X-Robots-Tag:noindex
X-PUBLISHED-TTL:PT1H
BEGIN:VTIMEZONE
TZID:America/Vancouver
BEGIN:DAYLIGHT
TZOFFSETFROM:-0800
TZOFFSETTO:-0700
TZNAME:PDT
DTSTART:20240310T100000
END:DAYLIGHT
BEGIN:STANDARD
TZOFFSETFROM:-0700
TZOFFSETTO:-0800
TZNAME:PST
DTSTART:20241103T090000
END:STANDARD
BEGIN:DAYLIGHT
TZOFFSETFROM:-0800
TZOFFSETTO:-0700
TZNAME:PDT
DTSTART:20250309T100000
END:DAYLIGHT
BEGIN:STANDARD
TZOFFSETFROM:-0700
TZOFFSETTO:-0800
TZNAME:PST
DTSTART:20251102T090000
END:STANDARD
BEGIN:DAYLIGHT
TZOFFSETFROM:-0800
TZOFFSETTO:-0700
TZNAME:PDT
DTSTART:20260308T100000
END:DAYLIGHT
BEGIN:STANDARD
TZOFFSETFROM:-0700
TZOFFSETTO:-0800
TZNAME:PST
DTSTART:20261101T090000
END:STANDARD
END:VTIMEZONE
BEGIN:VEVENT
DTSTART;TZID=America/Vancouver:20250614T090000
DTEND;TZID=America/Vancouver:20250614T140000
DTSTAMP:20260421T070229
CREATED:20250529T021035Z
LAST-MODIFIED:20250529T021133Z
UID:1734-1749891600-1749909600@victoriacamino.ca
SUMMARY:Cowichan River Circle Trail
DESCRIPTION:Saturday\, June 14\, 2025 10am (Meet at 9:45am)\nMeeting Point: Glenora Trails Head Park\nMeeting Point Map: https://maps.app.goo.gl/WruyD3tY216rmsaz7\nRoute Map: https://onthegomap.com/s/opluqc6l \nFor details on the walk please see the June Newsletter
URL:https://victoriacamino.ca/event/cowichan-river-circle-trail/
CATEGORIES:Camino Walk
ATTACH;FMTTYPE=image/jpeg:https://victoriacamino.ca/wp-content/uploads/2025/01/Cowichan-trail-sml.jpg
END:VEVENT
END:VCALENDAR