BEGIN:VCALENDAR
VERSION:2.0
PRODID:-//VICTORIA CAMINO - ECPv6.15.9//NONSGML v1.0//EN
CALSCALE:GREGORIAN
METHOD:PUBLISH
X-ORIGINAL-URL:https://victoriacamino.ca
X-WR-CALDESC:Events for VICTORIA CAMINO
REFRESH-INTERVAL;VALUE=DURATION:PT1H
X-Robots-Tag:noindex
X-PUBLISHED-TTL:PT1H
BEGIN:VTIMEZONE
TZID:America/Vancouver
BEGIN:DAYLIGHT
TZOFFSETFROM:-0800
TZOFFSETTO:-0700
TZNAME:PDT
DTSTART:20240310T100000
END:DAYLIGHT
BEGIN:STANDARD
TZOFFSETFROM:-0700
TZOFFSETTO:-0800
TZNAME:PST
DTSTART:20241103T090000
END:STANDARD
BEGIN:DAYLIGHT
TZOFFSETFROM:-0800
TZOFFSETTO:-0700
TZNAME:PDT
DTSTART:20250309T100000
END:DAYLIGHT
BEGIN:STANDARD
TZOFFSETFROM:-0700
TZOFFSETTO:-0800
TZNAME:PST
DTSTART:20251102T090000
END:STANDARD
BEGIN:DAYLIGHT
TZOFFSETFROM:-0800
TZOFFSETTO:-0700
TZNAME:PDT
DTSTART:20260308T100000
END:DAYLIGHT
BEGIN:STANDARD
TZOFFSETFROM:-0700
TZOFFSETTO:-0800
TZNAME:PST
DTSTART:20261101T090000
END:STANDARD
END:VTIMEZONE
BEGIN:VEVENT
DTSTART;TZID=America/Vancouver:20250529T100000
DTEND;TZID=America/Vancouver:20250529T120000
DTSTAMP:20260421T084838
CREATED:20250428T023538Z
LAST-MODIFIED:20250428T023733Z
UID:1721-1748512800-1748520000@victoriacamino.ca
SUMMARY:Camino Coffee House
DESCRIPTION:Camino Coffee House will be at the Quality Foods café\, located at the Eagle Creek Village Shopping mall\, beside the Victoria General Hospital\, 27 Helmcken Road. The café is located inside Quality Food\, upstairs. If you have a credencial and you would like to have the Victoria stamp (scroll down to see the stamp) in it as your first stamp\, come and join us for coffee and there will be someone there to stamp your credencial. Sorry no outside food.
URL:https://victoriacamino.ca/event/camino-coffee-house-8/
CATEGORIES:Camino Coffee House
ATTACH;FMTTYPE=image/jpeg:https://victoriacamino.ca/wp-content/uploads/2024/05/calendar-coffee-house-1.jpg
END:VEVENT
END:VCALENDAR