BEGIN:VCALENDAR
VERSION:2.0
PRODID:-//VICTORIA CAMINO - ECPv6.15.9//NONSGML v1.0//EN
CALSCALE:GREGORIAN
METHOD:PUBLISH
X-WR-CALNAME:VICTORIA CAMINO
X-ORIGINAL-URL:https://victoriacamino.ca
X-WR-CALDESC:Events for VICTORIA CAMINO
REFRESH-INTERVAL;VALUE=DURATION:PT1H
X-Robots-Tag:noindex
X-PUBLISHED-TTL:PT1H
BEGIN:VTIMEZONE
TZID:America/Vancouver
BEGIN:DAYLIGHT
TZOFFSETFROM:-0800
TZOFFSETTO:-0700
TZNAME:PDT
DTSTART:20230312T100000
END:DAYLIGHT
BEGIN:STANDARD
TZOFFSETFROM:-0700
TZOFFSETTO:-0800
TZNAME:PST
DTSTART:20231105T090000
END:STANDARD
BEGIN:DAYLIGHT
TZOFFSETFROM:-0800
TZOFFSETTO:-0700
TZNAME:PDT
DTSTART:20240310T100000
END:DAYLIGHT
BEGIN:STANDARD
TZOFFSETFROM:-0700
TZOFFSETTO:-0800
TZNAME:PST
DTSTART:20241103T090000
END:STANDARD
BEGIN:DAYLIGHT
TZOFFSETFROM:-0800
TZOFFSETTO:-0700
TZNAME:PDT
DTSTART:20250309T100000
END:DAYLIGHT
BEGIN:STANDARD
TZOFFSETFROM:-0700
TZOFFSETTO:-0800
TZNAME:PST
DTSTART:20251102T090000
END:STANDARD
END:VTIMEZONE
BEGIN:VEVENT
DTSTART;TZID=America/Vancouver:20241116T090000
DTEND;TZID=America/Vancouver:20241116T143000
DTSTAMP:20260421T011944
CREATED:20241102T192702Z
LAST-MODIFIED:20241102T192702Z
UID:1497-1731747600-1731767400@victoriacamino.ca
SUMMARY:Metchosin Cafe Walk
DESCRIPTION:November 16\, 2024 9am (Meet at 8:45am)\nMeeting Point: Marwood Ave. Parking Lot\nMeeting Point Map: https://maps.app.goo.gl/tFWTBPCheiWCB3e69\nRoute Map: https://onthegomap.com/s/ij45l1al
URL:https://victoriacamino.ca/event/metchosin-cafe-walk/
CATEGORIES:Camino Walk
END:VEVENT
END:VCALENDAR