BEGIN:VCALENDAR
VERSION:2.0
PRODID:-//VICTORIA CAMINO - ECPv6.15.9//NONSGML v1.0//EN
CALSCALE:GREGORIAN
METHOD:PUBLISH
X-WR-CALNAME:VICTORIA CAMINO
X-ORIGINAL-URL:https://victoriacamino.ca
X-WR-CALDESC:Events for VICTORIA CAMINO
REFRESH-INTERVAL;VALUE=DURATION:PT1H
X-Robots-Tag:noindex
X-PUBLISHED-TTL:PT1H
BEGIN:VTIMEZONE
TZID:America/Vancouver
BEGIN:DAYLIGHT
TZOFFSETFROM:-0800
TZOFFSETTO:-0700
TZNAME:PDT
DTSTART:20230312T100000
END:DAYLIGHT
BEGIN:STANDARD
TZOFFSETFROM:-0700
TZOFFSETTO:-0800
TZNAME:PST
DTSTART:20231105T090000
END:STANDARD
BEGIN:DAYLIGHT
TZOFFSETFROM:-0800
TZOFFSETTO:-0700
TZNAME:PDT
DTSTART:20240310T100000
END:DAYLIGHT
BEGIN:STANDARD
TZOFFSETFROM:-0700
TZOFFSETTO:-0800
TZNAME:PST
DTSTART:20241103T090000
END:STANDARD
BEGIN:DAYLIGHT
TZOFFSETFROM:-0800
TZOFFSETTO:-0700
TZNAME:PDT
DTSTART:20250309T100000
END:DAYLIGHT
BEGIN:STANDARD
TZOFFSETFROM:-0700
TZOFFSETTO:-0800
TZNAME:PST
DTSTART:20251102T090000
END:STANDARD
END:VTIMEZONE
BEGIN:VEVENT
DTSTART;TZID=America/Vancouver:20240518T090000
DTEND;TZID=America/Vancouver:20240518T143000
DTSTAMP:20260419T182152
CREATED:20240426T033650Z
LAST-MODIFIED:20240426T033650Z
UID:1269-1716022800-1716042600@victoriacamino.ca
SUMMARY:Bear Mountain Walk
DESCRIPTION:Saturday\, May 18\, 2024 9am (Meet at 8:45 am)\nMeeting Point: Serious Coffee Millstream Village\nMeeting Point Map: https://maps.app.goo.gl/mNaeFkQtaVbvESJTA\nRoute Map: https://onthegomap.com/s/9qmvmbo4 \nThis walk will take the group up and over Bear Mountain in Langford. The total elevation gain is 375 m with a similar descent. Poles will be helpful for this hike as it is meant to be a training hike on sidewalks and gravel surfaces.
URL:https://victoriacamino.ca/event/bear-mountain-walk/
CATEGORIES:Camino Walk
ATTACH;FMTTYPE=image/jpeg:https://victoriacamino.ca/wp-content/uploads/2024/03/MtNewton3.jpg
END:VEVENT
END:VCALENDAR