BEGIN:VCALENDAR
VERSION:2.0
PRODID:-//VICTORIA CAMINO - ECPv6.15.9//NONSGML v1.0//EN
CALSCALE:GREGORIAN
METHOD:PUBLISH
X-ORIGINAL-URL:https://victoriacamino.ca
X-WR-CALDESC:Events for VICTORIA CAMINO
REFRESH-INTERVAL;VALUE=DURATION:PT1H
X-Robots-Tag:noindex
X-PUBLISHED-TTL:PT1H
BEGIN:VTIMEZONE
TZID:America/Vancouver
BEGIN:DAYLIGHT
TZOFFSETFROM:-0800
TZOFFSETTO:-0700
TZNAME:PDT
DTSTART:20230312T100000
END:DAYLIGHT
BEGIN:STANDARD
TZOFFSETFROM:-0700
TZOFFSETTO:-0800
TZNAME:PST
DTSTART:20231105T090000
END:STANDARD
BEGIN:DAYLIGHT
TZOFFSETFROM:-0800
TZOFFSETTO:-0700
TZNAME:PDT
DTSTART:20240310T100000
END:DAYLIGHT
BEGIN:STANDARD
TZOFFSETFROM:-0700
TZOFFSETTO:-0800
TZNAME:PST
DTSTART:20241103T090000
END:STANDARD
BEGIN:DAYLIGHT
TZOFFSETFROM:-0800
TZOFFSETTO:-0700
TZNAME:PDT
DTSTART:20250309T100000
END:DAYLIGHT
BEGIN:STANDARD
TZOFFSETFROM:-0700
TZOFFSETTO:-0800
TZNAME:PST
DTSTART:20251102T090000
END:STANDARD
END:VTIMEZONE
BEGIN:VEVENT
DTSTART;TZID=America/Vancouver:20240504T090000
DTEND;TZID=America/Vancouver:20240504T110000
DTSTAMP:20260419T164043
CREATED:20240424T031728Z
LAST-MODIFIED:20240424T031950Z
UID:1265-1714813200-1714820400@victoriacamino.ca
SUMMARY:CCoP Annual General Meeting
DESCRIPTION:CCoP National Annual General Meeting Details \nDave Whitson is the author of three Camino guidebooks and has a popular Camino podcast.  Join us for his inspiring talk titled “Walking the Camino in Communitas”\,
URL:https://victoriacamino.ca/event/ccop-annual-general-meeting/
ATTACH;FMTTYPE=image/jpeg:https://victoriacamino.ca/wp-content/uploads/2024/04/GeneralMeeting.jpg
END:VEVENT
END:VCALENDAR