BEGIN:VCALENDAR
VERSION:2.0
PRODID:-//VICTORIA CAMINO - ECPv6.15.9//NONSGML v1.0//EN
CALSCALE:GREGORIAN
METHOD:PUBLISH
X-ORIGINAL-URL:https://victoriacamino.ca
X-WR-CALDESC:Events for VICTORIA CAMINO
REFRESH-INTERVAL;VALUE=DURATION:PT1H
X-Robots-Tag:noindex
X-PUBLISHED-TTL:PT1H
BEGIN:VTIMEZONE
TZID:America/Vancouver
BEGIN:DAYLIGHT
TZOFFSETFROM:-0800
TZOFFSETTO:-0700
TZNAME:PDT
DTSTART:20230312T100000
END:DAYLIGHT
BEGIN:STANDARD
TZOFFSETFROM:-0700
TZOFFSETTO:-0800
TZNAME:PST
DTSTART:20231105T090000
END:STANDARD
BEGIN:DAYLIGHT
TZOFFSETFROM:-0800
TZOFFSETTO:-0700
TZNAME:PDT
DTSTART:20240310T100000
END:DAYLIGHT
BEGIN:STANDARD
TZOFFSETFROM:-0700
TZOFFSETTO:-0800
TZNAME:PST
DTSTART:20241103T090000
END:STANDARD
BEGIN:DAYLIGHT
TZOFFSETFROM:-0800
TZOFFSETTO:-0700
TZNAME:PDT
DTSTART:20250309T100000
END:DAYLIGHT
BEGIN:STANDARD
TZOFFSETFROM:-0700
TZOFFSETTO:-0800
TZNAME:PST
DTSTART:20251102T090000
END:STANDARD
END:VTIMEZONE
BEGIN:VEVENT
DTSTART;TZID=America/Vancouver:20240321T180000
DTEND;TZID=America/Vancouver:20240321T200000
DTSTAMP:20260419T150448
CREATED:20240126T023954Z
LAST-MODIFIED:20240126T042525Z
UID:1126-1711044000-1711051200@victoriacamino.ca
SUMMARY:Walking in Europe: Portugal & France
DESCRIPTION:When: March 21\, 6:00pm – 8:00pm\nWhere: Saanich Commonwealth Place\, Arbutus Room \nThis multimedia session introduces walking in Portugal and France\, where it is a national pastime. Some trails are part of the Camino de Santiago and others are rigorous adventures. We will discuss accommodations\, food\, how to prepare\, train\, what to pack\, transportation\, guidebooks and what you will encounter along the way. \nPlease register with the Saanich Commonwealth Place in person\, by phone (250)-475-7600\, or online. \nSaanich Parks & Recreation \nSaanich Parks & Recreation Course Number: 105883
URL:https://victoriacamino.ca/event/walking-in-europe-portugal-france/
CATEGORIES:Walking in Europe
ATTACH;FMTTYPE=image/jpeg:https://victoriacamino.ca/wp-content/uploads/2019/11/Spring-Pilgrim-Gathering-51.jpg
END:VEVENT
END:VCALENDAR