BEGIN:VCALENDAR
VERSION:2.0
PRODID:-//VICTORIA CAMINO - ECPv6.15.9//NONSGML v1.0//EN
CALSCALE:GREGORIAN
METHOD:PUBLISH
X-WR-CALNAME:VICTORIA CAMINO
X-ORIGINAL-URL:https://victoriacamino.ca
X-WR-CALDESC:Events for VICTORIA CAMINO
REFRESH-INTERVAL;VALUE=DURATION:PT1H
X-Robots-Tag:noindex
X-PUBLISHED-TTL:PT1H
BEGIN:VTIMEZONE
TZID:America/Vancouver
BEGIN:DAYLIGHT
TZOFFSETFROM:-0800
TZOFFSETTO:-0700
TZNAME:PDT
DTSTART:20230312T100000
END:DAYLIGHT
BEGIN:STANDARD
TZOFFSETFROM:-0700
TZOFFSETTO:-0800
TZNAME:PST
DTSTART:20231105T090000
END:STANDARD
BEGIN:DAYLIGHT
TZOFFSETFROM:-0800
TZOFFSETTO:-0700
TZNAME:PDT
DTSTART:20240310T100000
END:DAYLIGHT
BEGIN:STANDARD
TZOFFSETFROM:-0700
TZOFFSETTO:-0800
TZNAME:PST
DTSTART:20241103T090000
END:STANDARD
BEGIN:DAYLIGHT
TZOFFSETFROM:-0800
TZOFFSETTO:-0700
TZNAME:PDT
DTSTART:20250309T100000
END:DAYLIGHT
BEGIN:STANDARD
TZOFFSETFROM:-0700
TZOFFSETTO:-0800
TZNAME:PST
DTSTART:20251102T090000
END:STANDARD
END:VTIMEZONE
BEGIN:VEVENT
DTSTART;TZID=America/Vancouver:20240302T093000
DTEND;TZID=America/Vancouver:20240302T153000
DTSTAMP:20260419T131658
CREATED:20240212T183003Z
LAST-MODIFIED:20240219T022011Z
UID:1192-1709371800-1709393400@victoriacamino.ca
SUMMARY:Camino 101
DESCRIPTION:A full day of events where you can learn from others who have walked the Camino! \nWhen: Saturday\, March 2\, 2024 9:30am – 3:30pm\nWhere: Mary Winspear Centre\, Sidney \nThe Program \n\nCamino Inglés including the routes to Muxía and Finisterre: A very special presentation by a delegation from Spain!\nCamino Francés: When is the best time of year to go? This often asked question will be discussed as will information about the route.\nLunch: Will be provided\, This will also be a time to browse the sale of used books and gear!\nPacking: Discussion of packs\, boots\, socks\, etc. plus a packing demo.\nTravel Logistics: SIM card or not. How much money will you need. How to get to your starting point\, questions like this and more will be answered!\nThe Mindful Pilgrim: Remembering that we are guests on the Camino.\nQuestion & Answer session: Time where you can engage with the presenters and get answers to your burning questions!\n\nCost is $30 which includes coffee and lunch. \nClick here to register.
URL:https://victoriacamino.ca/event/camino-101/
LOCATION:Mary Winspear Centre\, Sidney\, BC\, 2243 Beacon Ave\, Sidney\, BC\, V8L 1W9\, Canada
ATTACH;FMTTYPE=image/jpeg:https://victoriacamino.ca/wp-content/uploads/2024/02/camino-101-head-banner-small.jpg
END:VEVENT
END:VCALENDAR