BEGIN:VCALENDAR
VERSION:2.0
PRODID:-//VICTORIA CAMINO - ECPv6.15.9//NONSGML v1.0//EN
CALSCALE:GREGORIAN
METHOD:PUBLISH
X-ORIGINAL-URL:https://victoriacamino.ca
X-WR-CALDESC:Events for VICTORIA CAMINO
REFRESH-INTERVAL;VALUE=DURATION:PT1H
X-Robots-Tag:noindex
X-PUBLISHED-TTL:PT1H
BEGIN:VTIMEZONE
TZID:America/Vancouver
BEGIN:DAYLIGHT
TZOFFSETFROM:-0800
TZOFFSETTO:-0700
TZNAME:PDT
DTSTART:20230312T100000
END:DAYLIGHT
BEGIN:STANDARD
TZOFFSETFROM:-0700
TZOFFSETTO:-0800
TZNAME:PST
DTSTART:20231105T090000
END:STANDARD
BEGIN:DAYLIGHT
TZOFFSETFROM:-0800
TZOFFSETTO:-0700
TZNAME:PDT
DTSTART:20240310T100000
END:DAYLIGHT
BEGIN:STANDARD
TZOFFSETFROM:-0700
TZOFFSETTO:-0800
TZNAME:PST
DTSTART:20241103T090000
END:STANDARD
BEGIN:DAYLIGHT
TZOFFSETFROM:-0800
TZOFFSETTO:-0700
TZNAME:PDT
DTSTART:20250309T100000
END:DAYLIGHT
BEGIN:STANDARD
TZOFFSETFROM:-0700
TZOFFSETTO:-0800
TZNAME:PST
DTSTART:20251102T090000
END:STANDARD
END:VTIMEZONE
BEGIN:VEVENT
DTSTART;TZID=America/Vancouver:20240224T153000
DTEND;TZID=America/Vancouver:20240224T170000
DTSTAMP:20260419T131843
CREATED:20240125T214659Z
LAST-MODIFIED:20240125T232659Z
UID:1110-1708788600-1708794000@victoriacamino.ca
SUMMARY:Coldest Night of the Year Walk
DESCRIPTION:When: 3:45 PM\, Feb. 24\, Saturday\nMeet: Central Saanich United Church 7180 East Saanich Rd. \nPlease join Jim Rondeau’s annual Coldest Night of the Year charity walk to raise funds for Our Place Society to support people experiencing hurt\, hunger and homelessness. \nThis is a family friendly walk. The walk starts at 4 PM from Central Saanich United Church along East Saanich Road to Central Saanich City Hall and back to the church. Total distance is 5.2 Km. This walk is open to all\, please invite others to join Jim’s Coldest Night of the Year walk to help others in needs. \nPlease wear warm\, bright and reflective clothing. \nSee our Feb. newsletter for how to donate and route map.
URL:https://victoriacamino.ca/event/coldest-night-of-the-year-walk/
CATEGORIES:Camino Walk
ATTACH;FMTTYPE=image/jpeg:https://victoriacamino.ca/wp-content/uploads/2024/01/calendar-icon-coldest.jpg
END:VEVENT
END:VCALENDAR