BEGIN:VCALENDAR
VERSION:2.0
PRODID:-//VICTORIA CAMINO - ECPv6.15.9//NONSGML v1.0//EN
CALSCALE:GREGORIAN
METHOD:PUBLISH
X-WR-CALNAME:VICTORIA CAMINO
X-ORIGINAL-URL:https://victoriacamino.ca
X-WR-CALDESC:Events for VICTORIA CAMINO
REFRESH-INTERVAL;VALUE=DURATION:PT1H
X-Robots-Tag:noindex
X-PUBLISHED-TTL:PT1H
BEGIN:VTIMEZONE
TZID:America/Vancouver
BEGIN:DAYLIGHT
TZOFFSETFROM:-0800
TZOFFSETTO:-0700
TZNAME:PDT
DTSTART:20230312T100000
END:DAYLIGHT
BEGIN:STANDARD
TZOFFSETFROM:-0700
TZOFFSETTO:-0800
TZNAME:PST
DTSTART:20231105T090000
END:STANDARD
BEGIN:DAYLIGHT
TZOFFSETFROM:-0800
TZOFFSETTO:-0700
TZNAME:PDT
DTSTART:20240310T100000
END:DAYLIGHT
BEGIN:STANDARD
TZOFFSETFROM:-0700
TZOFFSETTO:-0800
TZNAME:PST
DTSTART:20241103T090000
END:STANDARD
BEGIN:DAYLIGHT
TZOFFSETFROM:-0800
TZOFFSETTO:-0700
TZNAME:PDT
DTSTART:20250309T100000
END:DAYLIGHT
BEGIN:STANDARD
TZOFFSETFROM:-0700
TZOFFSETTO:-0800
TZNAME:PST
DTSTART:20251102T090000
END:STANDARD
END:VTIMEZONE
BEGIN:VEVENT
DTSTART;TZID=America/Vancouver:20240215T180000
DTEND;TZID=America/Vancouver:20240215T200000
DTSTAMP:20260419T131719
CREATED:20240125T215139Z
LAST-MODIFIED:20240214T025351Z
UID:1118-1708020000-1708027200@victoriacamino.ca
SUMMARY:Walking in Europe: Camino & Robert Louis Stevenson Trail
DESCRIPTION:When: Feb 15\, 6PM – 8PM\nSaanich Commonwealth Place\, Arbutus Room ROOM CHANGE will now take place in the Cedar Room. \nThis session introduces European walking routes. The Portuguese and Frances routes for the Camino de Santiago and the Robert Louis Stevenson Trail in France. These are less expensive ways to experience the countryside\, culture and cuisine while keeping fit. Learn about routes\, accommodations\, food\, how to prepare\, what to pack\, transportation\, guidebooks and what you’ll encounter along the way. \nPlease register with the Saanich Commonwealth Place in person\, by phone (250)-475-7600\, or online. \nSaanich Parks & Recreation\nCost $10.00 per registration \nCourse number: 105881
URL:https://victoriacamino.ca/event/walking-in-europe-camino-robert-lous-stevenson-trail/
CATEGORIES:Walking in Europe
ATTACH;FMTTYPE=image/jpeg:https://victoriacamino.ca/wp-content/uploads/2024/01/calendar-icon-session.jpg
END:VEVENT
END:VCALENDAR