BEGIN:VCALENDAR
VERSION:2.0
PRODID:-//VICTORIA CAMINO - ECPv6.15.9//NONSGML v1.0//EN
CALSCALE:GREGORIAN
METHOD:PUBLISH
X-WR-CALNAME:VICTORIA CAMINO
X-ORIGINAL-URL:https://victoriacamino.ca
X-WR-CALDESC:Events for VICTORIA CAMINO
REFRESH-INTERVAL;VALUE=DURATION:PT1H
X-Robots-Tag:noindex
X-PUBLISHED-TTL:PT1H
BEGIN:VTIMEZONE
TZID:America/Vancouver
BEGIN:DAYLIGHT
TZOFFSETFROM:-0800
TZOFFSETTO:-0700
TZNAME:PDT
DTSTART:20220313T100000
END:DAYLIGHT
BEGIN:STANDARD
TZOFFSETFROM:-0700
TZOFFSETTO:-0800
TZNAME:PST
DTSTART:20221106T090000
END:STANDARD
BEGIN:DAYLIGHT
TZOFFSETFROM:-0800
TZOFFSETTO:-0700
TZNAME:PDT
DTSTART:20230312T100000
END:DAYLIGHT
BEGIN:STANDARD
TZOFFSETFROM:-0700
TZOFFSETTO:-0800
TZNAME:PST
DTSTART:20231105T090000
END:STANDARD
BEGIN:DAYLIGHT
TZOFFSETFROM:-0800
TZOFFSETTO:-0700
TZNAME:PDT
DTSTART:20240310T100000
END:DAYLIGHT
BEGIN:STANDARD
TZOFFSETFROM:-0700
TZOFFSETTO:-0800
TZNAME:PST
DTSTART:20241103T090000
END:STANDARD
END:VTIMEZONE
BEGIN:VEVENT
DTSTART;TZID=America/Vancouver:20231216T160000
DTEND;TZID=America/Vancouver:20231216T190000
DTSTAMP:20260419T095602
CREATED:20231130T200219Z
LAST-MODIFIED:20231130T200219Z
UID:1094-1702742400-1702753200@victoriacamino.ca
SUMMARY:Winter Light Walk
DESCRIPTION:Winter Light Walk\nWhen: Saturday\, Dec. 16\nMetting Time: 4 PM departure\nLength: 10 Km\nLocation: Beacon Hill Park petting zoo \nBundle up and wear reflective gear\, shoes with good grip\, a small flashlight/bike light and perhaps some Christmas lights for this walk around the old town of Victoria! \nWe will meet at the Petting Zoo in Beacon Hill Park at 4:00 pm. \nOur first stop will be the Parkside Hotel & Spa to see the gingerbread houses on display. They are quite spectacular and this is a fundraiser for Habitat for Humanity. We will then walk through downtown\, stopping at various places to ooh and ahh over the displays\, and then check out the Christmas trees at the Bay Centre. \nWe’ll get over the Johnson Street bridge and then on the return\, we’ll head towards Centennial Square. From there folks are invited to head off to the nearest or their favourite watering hole to have a warm drink and/or more. Or head back down Government Street to see the lights at the Legislature and Empress Hotel\, on the way back to the petting zoo.
URL:https://victoriacamino.ca/event/winter-light-walk/
CATEGORIES:Camino Walk
ATTACH;FMTTYPE=image/jpeg:https://victoriacamino.ca/wp-content/uploads/2023/11/calendar-icon-winter-light.jpg
END:VEVENT
END:VCALENDAR